BEGIN:VCALENDAR
VERSION:2.0
PRODID:-//Kino Tuškanac//Filmski programi//HR
BEGIN:VEVENT
UID:6f7d6118d9089e5c62546e07335b6328@kinotuskanac.hr
DTSTAMP:20260425T233735Z
DTSTART:20220208T190000
DTEND:20220208T210000
SUMMARY:Neprijatelj
LOCATION:Kino Tuškanac
DESCRIPTION:Enemy, Kanada, Španjolska, Francuska, 2013 R: Denis Villeneuve
END:VEVENT
END:VCALENDAR