BEGIN:VCALENDAR
VERSION:2.0
PRODID:-//Kino Tuškanac//Filmski programi//HR
BEGIN:VEVENT
UID:2bb5ad63925053d101aff87e996035c8@kinotuskanac.hr
DTSTAMP:20260420T092740Z
DTSTART:20220210T190000
DTEND:20220210T210000
SUMMARY:Zatočene
LOCATION:Kino Tuškanac
DESCRIPTION:Prisoners, SAD, 2013 R: Denis Villeneuve
END:VEVENT
END:VCALENDAR