BEGIN:VCALENDAR
VERSION:2.0
PRODID:-//Kino Tuškanac//Filmski programi//HR
BEGIN:VEVENT
UID:1d8d0cdebf6a63923af097144a195e3f@kinotuskanac.hr
DTSTAMP:20260422T123000Z
DTSTART:20220215T190000
DTEND:20220215T210000
SUMMARY:Batman: Početak
LOCATION:Kino Tuškanac
DESCRIPTION:Batman Begins, SAD, UK, 2005 R: Christopher Nolan
END:VEVENT
END:VCALENDAR