BEGIN:VCALENDAR
VERSION:2.0
PRODID:-//Kino Tuškanac//Filmski programi//HR
BEGIN:VEVENT
UID:dab743d24728eef2d7c0ed59aef4ed60@kinotuskanac.hr
DTSTAMP:20260422T234829Z
DTSTART:20220219T190000
DTEND:20220219T210000
SUMMARY:Nesanica
LOCATION:Kino Tuškanac
DESCRIPTION:Insomnia, SAD, 2002 R: Christopher Nolan
END:VEVENT
END:VCALENDAR