BEGIN:VCALENDAR
VERSION:2.0
PRODID:-//Kino Tuškanac//Filmski programi//HR
BEGIN:VEVENT
UID:6f0add67ab615eeb15efe77c4b03d245@kinotuskanac.hr
DTSTAMP:20260422T080257Z
DTSTART:20220220T190000
DTEND:20220220T210000
SUMMARY:Prestiž
LOCATION:Kino Tuškanac
DESCRIPTION:The Prestige, SAD, 2006 R: Christopher Nolan
END:VEVENT
END:VCALENDAR