BEGIN:VCALENDAR
VERSION:2.0
PRODID:-//Kino Tuškanac//Filmski programi//HR
BEGIN:VEVENT
UID:e2cf4e62b8d9be04ef1fc959e9bc6bcf@kinotuskanac.hr
DTSTAMP:20260420T230938Z
DTSTART:20220222T183000
DTEND:20220222T203000
SUMMARY:Goli čovik
LOCATION:Kino Tuškanac
DESCRIPTION:Hrvatska, Jugoslavija, Jadran film, 1968 R: Obrad Gluščević
END:VEVENT
END:VCALENDAR