BEGIN:VCALENDAR
VERSION:2.0
PRODID:-//Kino Tuškanac//Filmski programi//HR
BEGIN:VEVENT
UID:1016d8f82c6d3405454e11c038f29f9f@kinotuskanac.hr
DTSTAMP:20260423T111359Z
DTSTART:20220226T210000
DTEND:20220226T230000
SUMMARY:Kauboj
LOCATION:Kino Tuškanac
DESCRIPTION:Cowboy, SAD, 1958 R: Delmer Daves
END:VEVENT
END:VCALENDAR