BEGIN:VCALENDAR
VERSION:2.0
PRODID:-//Kino Tuškanac//Filmski programi//HR
BEGIN:VEVENT
UID:e0123f4c65a16a6af93d0ebbda4c47f3@kinotuskanac.hr
DTSTAMP:20260420T023613Z
DTSTART:20220308T210000
DTEND:20220308T230000
SUMMARY:Una
LOCATION:Kino Tuškanac
DESCRIPTION:Jugoslavija, 1984 R: Miloš 'Miša' Radivojević
END:VEVENT
END:VCALENDAR