BEGIN:VCALENDAR
VERSION:2.0
PRODID:-//Kino Tuškanac//Filmski programi//HR
BEGIN:VEVENT
UID:6baa2923b3fa1f797981485d196233d3@kinotuskanac.hr
DTSTAMP:20260420T011713Z
DTSTART:20220312T210000
DTEND:20220312T230000
SUMMARY:Canterburyjske priče
LOCATION:Kino Tuškanac
DESCRIPTION:I racconti di Canterbury, Italija, Francuska, 1972 R: Pier Paolo Pasolini
END:VEVENT
END:VCALENDAR