BEGIN:VCALENDAR
VERSION:2.0
PRODID:-//Kino Tuškanac//Filmski programi//HR
BEGIN:VEVENT
UID:9bf49f8aa7fed4232a9c37e064333f33@kinotuskanac.hr
DTSTAMP:20260421T113704Z
DTSTART:20220313T190000
DTEND:20220313T210000
SUMMARY:Evanđelje po Mateju
LOCATION:Kino Tuškanac
DESCRIPTION:Il vangelo secondo Matteo, Italija, Francuska, 1964 R: Pier Paolo Pasolini
END:VEVENT
END:VCALENDAR