BEGIN:VCALENDAR
VERSION:2.0
PRODID:-//Kino Tuškanac//Filmski programi//HR
BEGIN:VEVENT
UID:6930bda15548bb407dd614e66ca35213@kinotuskanac.hr
DTSTAMP:20260421T093215Z
DTSTART:20220315T190000
DTEND:20220315T210000
SUMMARY:Salò ili 120 dana Sodome
LOCATION:Kino Tuškanac
DESCRIPTION:Salò o le 120 giornate di Sodoma, Italija, Francuska, 1975 R: Pier Paolo Pasolini
END:VEVENT
END:VCALENDAR