BEGIN:VCALENDAR
VERSION:2.0
PRODID:-//Kino Tuškanac//Filmski programi//HR
BEGIN:VEVENT
UID:eca94abbf8d0f237cd51e83a731e439f@kinotuskanac.hr
DTSTAMP:20260424T212300Z
DTSTART:20060204T210000
DTEND:20060204T230000
SUMMARY:Ljudi rižinih polja
LOCATION:Kino Tuškanac
DESCRIPTION:Neak sre/Les Gens de la riziére, Kambođža, 1994 R: Rithy Panh
END:VEVENT
END:VCALENDAR