BEGIN:VCALENDAR
VERSION:2.0
PRODID:-//Kino Tuškanac//Filmski programi//HR
BEGIN:VEVENT
UID:121d52648aca89e57aeaff8506ec439d@kinotuskanac.hr
DTSTAMP:20260419T224800Z
DTSTART:20220316T190000
DTEND:20220316T210000
SUMMARY:Accattone
LOCATION:Kino Tuškanac
DESCRIPTION:Italija, 1961 R: Pier Paolo Pasolini
END:VEVENT
END:VCALENDAR