BEGIN:VCALENDAR
VERSION:2.0
PRODID:-//Kino Tuškanac//Filmski programi//HR
BEGIN:VEVENT
UID:7592fd032fa73500ac2ebf23d6a2b5c0@kinotuskanac.hr
DTSTAMP:20260419T141636Z
DTSTART:20220316T210000
DTEND:20220316T230000
SUMMARY:Svinjac
LOCATION:Kino Tuškanac
DESCRIPTION:Porcile, Italija, Francuska, 1969 R: Pier Paolo Pasolini
END:VEVENT
END:VCALENDAR