BEGIN:VCALENDAR
VERSION:2.0
PRODID:-//Kino Tuškanac//Filmski programi//HR
BEGIN:VEVENT
UID:572025a6b8b3a33ab6b896d2aa76e8b2@kinotuskanac.hr
DTSTAMP:20260419T225729Z
DTSTART:20220317T190000
DTEND:20220317T210000
SUMMARY:Cvijet tisuću i jedne noći
LOCATION:Kino Tuškanac
DESCRIPTION:Il fiore delle mille e una notte, Italija, Francuska, 1974 R: Pier Paolo Pasolini
END:VEVENT
END:VCALENDAR