BEGIN:VCALENDAR
VERSION:2.0
PRODID:-//Kino Tuškanac//Filmski programi//HR
BEGIN:VEVENT
UID:3c4fe744eae5df792e257a00ce3d39ce@kinotuskanac.hr
DTSTAMP:20260419T225102Z
DTSTART:20220318T190000
DTEND:20220318T210000
SUMMARY:Ptičice i ptičurine
LOCATION:Kino Tuškanac
DESCRIPTION:Uccellacci e uccellini, Italija, 1966 R: Pier Paolo Pasolini
END:VEVENT
END:VCALENDAR