BEGIN:VCALENDAR
VERSION:2.0
PRODID:-//Kino Tuškanac//Filmski programi//HR
BEGIN:VEVENT
UID:18b2107300adbe4c47bfef13e9f270fd@kinotuskanac.hr
DTSTAMP:20260425T150135Z
DTSTART:20220306T190000
DTEND:20220306T210000
SUMMARY:Ceremonija (1965)
LOCATION:Kino Tuškanac
DESCRIPTION:Jugoslavija, Hrvatska, Zagreb film, 1965 R: Borivoj Dovniković - Bordo
END:VEVENT
END:VCALENDAR