BEGIN:VCALENDAR
VERSION:2.0
PRODID:-//Kino Tuškanac//Filmski programi//HR
BEGIN:VEVENT
UID:326abbdafba26dc19f8f5dde2f534956@kinotuskanac.hr
DTSTAMP:20260424T212301Z
DTSTART:20060206T190000
DTEND:20060206T210000
SUMMARY:Ljudi rižinih polja
LOCATION:Kino Tuškanac
DESCRIPTION:Neak sre/Les Gens de la riziére, Kambođža, 1994 R: Rithy Panh
END:VEVENT
END:VCALENDAR