BEGIN:VCALENDAR
VERSION:2.0
PRODID:-//Kino Tuškanac//Filmski programi//HR
BEGIN:VEVENT
UID:47f330e8cd932c15a8c4ce60e288f518@kinotuskanac.hr
DTSTAMP:20260425T233032Z
DTSTART:20220306T190000
DTEND:20220306T210000
SUMMARY:N. N.
LOCATION:Kino Tuškanac
DESCRIPTION:Jugoslavija, Hrvatska, Zagreb film, 1977 R: Borivoj Dovniković - Bordo
END:VEVENT
END:VCALENDAR