BEGIN:VCALENDAR
VERSION:2.0
PRODID:-//Kino Tuškanac//Filmski programi//HR
BEGIN:VEVENT
UID:a5dd55b95008dbb3dba272f100bb2c7e@kinotuskanac.hr
DTSTAMP:20260424T212609Z
DTSTART:20220306T190000
DTEND:20220306T210000
SUMMARY:Uzbudljiva ljubavna priča
LOCATION:Kino Tuškanac
DESCRIPTION:Jugoslavija, Hrvatska, Zagreb film, 1989 R: Borivoj Dovniković - Bordo
END:VEVENT
END:VCALENDAR