BEGIN:VCALENDAR
VERSION:2.0
PRODID:-//Kino Tuškanac//Filmski programi//HR
BEGIN:VEVENT
UID:dc1d2f1c7aabf3a0aa12c656ebef8660@kinotuskanac.hr
DTSTAMP:20260423T160838Z
DTSTART:20060206T211500
DTEND:20060206T231500
SUMMARY:Hijene
LOCATION:Kino Tuškanac
DESCRIPTION:Hyenes, Senegal, 1992 R: Djibril Diop Mambéty
END:VEVENT
END:VCALENDAR