BEGIN:VCALENDAR
VERSION:2.0
PRODID:-//Kino Tuškanac//Filmski programi//HR
BEGIN:VEVENT
UID:9ccd02bbded5f427d1021a98deaa5ba7@kinotuskanac.hr
DTSTAMP:20260420T100110Z
DTSTART:20220322T183000
DTEND:20220322T203000
SUMMARY:Prometej s otoka Viševice
LOCATION:Kino Tuškanac
DESCRIPTION:Jadran film, 1964 R: Vatroslav Mimica
END:VEVENT
END:VCALENDAR