BEGIN:VCALENDAR
VERSION:2.0
PRODID:-//Kino Tuškanac//Filmski programi//HR
BEGIN:VEVENT
UID:dd60b1ca29458de00679f7d536cf2a99@kinotuskanac.hr
DTSTAMP:20260422T011444Z
DTSTART:20220402T210000
DTEND:20220402T230000
SUMMARY:Pod stablom gloga
LOCATION:Kino Tuškanac
DESCRIPTION:Shan zha shu zhi lian, Kina, 2010 R: Yimou Zhang
END:VEVENT
END:VCALENDAR