BEGIN:VCALENDAR
VERSION:2.0
PRODID:-//Kino Tuškanac//Filmski programi//HR
BEGIN:VEVENT
UID:3240fd59ba37b01550a0686f48e927b3@kinotuskanac.hr
DTSTAMP:20260424T085028Z
DTSTART:20220406T210000
DTEND:20220406T230000
SUMMARY:Usamljeno putovanje od tisuću kilometara
LOCATION:Kino Tuškanac
DESCRIPTION:Qian li zou dan qi, Kina, Hong Kong, Japan, 2005 R: Yimou Zhang
END:VEVENT
END:VCALENDAR