BEGIN:VCALENDAR
VERSION:2.0
PRODID:-//Kino Tuškanac//Filmski programi//HR
BEGIN:VEVENT
UID:451f70ca82d0a69cf158e8995ecca740@kinotuskanac.hr
DTSTAMP:20260420T165555Z
DTSTART:20220415T190000
DTEND:20220415T210000
SUMMARY:Okus trešnje
LOCATION:Kino Tuškanac
DESCRIPTION:Ta'm e guilass, Iran, Francuska, 1997 R: Abbas Kiarostami
END:VEVENT
END:VCALENDAR