BEGIN:VCALENDAR
VERSION:2.0
PRODID:-//Kino Tuškanac//Filmski programi//HR
BEGIN:VEVENT
UID:f70a46f6b4fb1a5db41fad03bd0e80d6@kinotuskanac.hr
DTSTAMP:20260420T170243Z
DTSTART:20220428T190000
DTEND:20220428T210000
SUMMARY:Jastog
LOCATION:Kino Tuškanac
DESCRIPTION:The Lobster, Grčka, Irska, UK, Francuska, Nizozemska, SAD, 2015 R: Yorgos Lanthimos
END:VEVENT
END:VCALENDAR