BEGIN:VCALENDAR
VERSION:2.0
PRODID:-//Kino Tuškanac//Filmski programi//HR
BEGIN:VEVENT
UID:f540c55eb40b2ee97d14361faa06e831@kinotuskanac.hr
DTSTAMP:20260421T142244Z
DTSTART:20220429T190000
DTEND:20220429T210000
SUMMARY:Ispod kože
LOCATION:Kino Tuškanac
DESCRIPTION:Under the Skin, UK, Švicarska, 2013 R: Jonathan Glazer
END:VEVENT
END:VCALENDAR