BEGIN:VCALENDAR
VERSION:2.0
PRODID:-//Kino Tuškanac//Filmski programi//HR
BEGIN:VEVENT
UID:e833d1ebaf9db7c97d0ba5a4144d6271@kinotuskanac.hr
DTSTAMP:20260421T080352Z
DTSTART:20220430T190000
DTEND:20220430T210000
SUMMARY:Posljednja pljačka
LOCATION:Kino Tuškanac
DESCRIPTION:Sexy Beast, UK, Španjolska, 2000 R: Jonathan Glazer
END:VEVENT
END:VCALENDAR