BEGIN:VCALENDAR
VERSION:2.0
PRODID:-//Kino Tuškanac//Filmski programi//HR
BEGIN:VEVENT
UID:251caaa74f93ec7711c34406a39bfdc1@kinotuskanac.hr
DTSTAMP:20260421T093238Z
DTSTART:20220430T210000
DTEND:20220430T230000
SUMMARY:Rođenje
LOCATION:Kino Tuškanac
DESCRIPTION:Birth, UK, Francuska, Njemačka, SAD, 2004 R: Jonathan Glazer
END:VEVENT
END:VCALENDAR