BEGIN:VCALENDAR
VERSION:2.0
PRODID:-//Kino Tuškanac//Filmski programi//HR
BEGIN:VEVENT
UID:3664f2e369758230a1ca44d59c1d4703@kinotuskanac.hr
DTSTAMP:20260424T212445Z
DTSTART:20220524T180000
DTEND:20220524T200000
SUMMARY:Poslije podne (Puška)
LOCATION:Kino Tuškanac
DESCRIPTION:Jugoslavija: Hrvatska, 1968 R: Lordan Zafranović
END:VEVENT
END:VCALENDAR