BEGIN:VCALENDAR
VERSION:2.0
PRODID:-//Kino Tuškanac//Filmski programi//HR
BEGIN:VEVENT
UID:1a5e24aefd1e24af2972d4dd057580cb@kinotuskanac.hr
DTSTAMP:20260420T231401Z
DTSTART:20220515T200000
DTEND:20220515T220000
SUMMARY:Heroji radničke klase
LOCATION:Kino Tuškanac
DESCRIPTION:Srbija, 2022 R: Miloš Pušić
END:VEVENT
END:VCALENDAR