BEGIN:VCALENDAR
VERSION:2.0
PRODID:-//Kino Tuškanac//Filmski programi//HR
BEGIN:VEVENT
UID:980b4eda42986a792da040bc05fd503b@kinotuskanac.hr
DTSTAMP:20260420T115139Z
DTSTART:20220516T210000
DTEND:20220516T230000
SUMMARY:Rupa
LOCATION:Kino Tuškanac
DESCRIPTION:Il Bucco, Italija, Francuska, Njemačka, 2021 R: Michelangelo Frammartino
END:VEVENT
END:VCALENDAR