BEGIN:VCALENDAR
VERSION:2.0
PRODID:-//Kino Tuškanac//Filmski programi//HR
BEGIN:VEVENT
UID:8b97244c148590fda9b2fce9f378b6c1@kinotuskanac.hr
DTSTAMP:20260420T170125Z
DTSTART:20220517T180000
DTEND:20220517T200000
SUMMARY:Dnevnici iz Myanmara
LOCATION:Kino Tuškanac
DESCRIPTION:Myanmar Diaries, Nizozemska, Myanmar, Norveška, 2022 R: The Myanmar Film Collective
END:VEVENT
END:VCALENDAR