BEGIN:VCALENDAR
VERSION:2.0
PRODID:-//Kino Tuškanac//Filmski programi//HR
BEGIN:VEVENT
UID:396f3f98bcb121cd12035e797f2e9f3f@kinotuskanac.hr
DTSTAMP:20260421T051048Z
DTSTART:20060216T180000
DTEND:20060216T200000
SUMMARY:Peron
LOCATION:Kino Tuškanac
DESCRIPTION:Zhantai, Kina, 2001 R: Zhang-ke Jia
END:VEVENT
END:VCALENDAR