BEGIN:VCALENDAR
VERSION:2.0
PRODID:-//Kino Tuškanac//Filmski programi//HR
BEGIN:VEVENT
UID:047d4e71b46f44f14fecb325196fed00@kinotuskanac.hr
DTSTAMP:20260420T165738Z
DTSTART:20220518T173000
DTEND:20220518T193000
SUMMARY:Brodska straža
LOCATION:Kino Tuškanac
DESCRIPTION:Dogwatch, Grčka, Francuska, 2022 R: Gregoris Rentis
END:VEVENT
END:VCALENDAR