BEGIN:VCALENDAR
VERSION:2.0
PRODID:-//Kino Tuškanac//Filmski programi//HR
BEGIN:VEVENT
UID:6b62c459f4bc5ae9304822821f0ae494@kinotuskanac.hr
DTSTAMP:20260421T131951Z
DTSTART:20220518T190000
DTEND:20220518T210000
SUMMARY:Kraj
LOCATION:Kino Tuškanac
DESCRIPTION:Krai, Austrija, 2021 R: Aleksej Lapin
END:VEVENT
END:VCALENDAR