BEGIN:VCALENDAR
VERSION:2.0
PRODID:-//Kino Tuškanac//Filmski programi//HR
BEGIN:VEVENT
UID:6cfff2f5863b2e779fe4339c7ff97b57@kinotuskanac.hr
DTSTAMP:20260420T165900Z
DTSTART:20220519T193000
DTEND:20220519T213000
SUMMARY:Vodič za ljubav i borbu protiv kapitalizma
LOCATION:Kino Tuškanac
DESCRIPTION:À demain mon amour, Francuska, 2021 R: Basile Carré-Agostini
END:VEVENT
END:VCALENDAR