BEGIN:VCALENDAR
VERSION:2.0
PRODID:-//Kino Tuškanac//Filmski programi//HR
BEGIN:VEVENT
UID:81d0562507e9bc581e596d80eb563dbe@kinotuskanac.hr
DTSTAMP:20260420T115248Z
DTSTART:20220519T211500
DTEND:20220519T231500
SUMMARY:Veliko kretanje
LOCATION:Kino Tuškanac
DESCRIPTION:El Gran Movimiento, Bolivija, Katar, Francuska, Švicarska, UK, 2021 R: Kiro Russo
END:VEVENT
END:VCALENDAR