BEGIN:VCALENDAR
VERSION:2.0
PRODID:-//Kino Tuškanac//Filmski programi//HR
BEGIN:VEVENT
UID:d19ff1400562e3169bd6bc77259d23e6@kinotuskanac.hr
DTSTAMP:20260420T215820Z
DTSTART:20220520T173000
DTEND:20220520T193000
SUMMARY:107 majki
LOCATION:Kino Tuškanac
DESCRIPTION:Cenzorka, Slovačka, Češka, Ukrajina, 2021 R: Péter Kerekes
END:VEVENT
END:VCALENDAR