BEGIN:VCALENDAR
VERSION:2.0
PRODID:-//Kino Tuškanac//Filmski programi//HR
BEGIN:VEVENT
UID:7d9f79a23ab96a28715a35acbdf87c74@kinotuskanac.hr
DTSTAMP:20260421T153058Z
DTSTART:20011127T210000
DTEND:20011127T230000
SUMMARY:Konstanta
LOCATION:Kino Tuškanac
DESCRIPTION:Konstans, 1980 R: Krzysztof Zanussi
END:VEVENT
END:VCALENDAR