BEGIN:VCALENDAR
VERSION:2.0
PRODID:-//Kino Tuškanac//Filmski programi//HR
BEGIN:VEVENT
UID:740387393e138818557a7a33312b51b7@kinotuskanac.hr
DTSTAMP:20260421T050925Z
DTSTART:20060227T210000
DTEND:20060227T230000
SUMMARY:Peron
LOCATION:Kino Tuškanac
DESCRIPTION:Zhantai, Kina, 2001 R: Zhang-ke Jia
END:VEVENT
END:VCALENDAR