BEGIN:VCALENDAR
VERSION:2.0
PRODID:-//Kino Tuškanac//Filmski programi//HR
BEGIN:VEVENT
UID:a26caa698f64dc0ea64746fdf3d65c5e@kinotuskanac.hr
DTSTAMP:20260421T072018Z
DTSTART:20220521T173000
DTEND:20220521T193000
SUMMARY:Spisateljičin film
LOCATION:Kino Tuškanac
DESCRIPTION:Soseolgaui Yeonghwa, Južna Koreja, 2022 R: Hong Sang-soo
END:VEVENT
END:VCALENDAR