BEGIN:VCALENDAR
VERSION:2.0
PRODID:-//Kino Tuškanac//Filmski programi//HR
BEGIN:VEVENT
UID:92616eb4a1269675cfc7dd8dd659a615@kinotuskanac.hr
DTSTAMP:20260420T165738Z
DTSTART:20220522T160000
DTEND:20220522T180000
SUMMARY:Vidimo se u petak, Robinsone
LOCATION:Kino Tuškanac
DESCRIPTION:À vendredi, Robinson, Francuska, 2022 R: Mitra Farahani
END:VEVENT
END:VCALENDAR