BEGIN:VCALENDAR
VERSION:2.0
PRODID:-//Kino Tuškanac//Filmski programi//HR
BEGIN:VEVENT
UID:640d77c4a796da39189851348882788c@kinotuskanac.hr
DTSTAMP:20260421T012534Z
DTSTART:20220614T190000
DTEND:20220614T210000
SUMMARY:Imati i nemati
LOCATION:Kino Tuškanac
DESCRIPTION:To Have and Have Not, SAD, 1944 R: Howard Hawks
END:VEVENT
END:VCALENDAR