BEGIN:VCALENDAR
VERSION:2.0
PRODID:-//Kino Tuškanac//Filmski programi//HR
BEGIN:VEVENT
UID:d5de2b3ffb949fc88814e23cdf9c9a60@kinotuskanac.hr
DTSTAMP:20260421T093103Z
DTSTART:20220616T190000
DTEND:20220616T210000
SUMMARY:Duboki san
LOCATION:Kino Tuškanac
DESCRIPTION:The Big Sleep, SAD, 1946 R: Howard Hawks
END:VEVENT
END:VCALENDAR