BEGIN:VCALENDAR
VERSION:2.0
PRODID:-//Kino Tuškanac//Filmski programi//HR
BEGIN:VEVENT
UID:8dfba62fb55bc9946074f2a493d1ec9a@kinotuskanac.hr
DTSTAMP:20260421T035346Z
DTSTART:20220616T210000
DTEND:20220616T230000
SUMMARY:Vatrena kugla
LOCATION:Kino Tuškanac
DESCRIPTION:Ball of Fire, SAD, 1941 R: Howard Hawks
END:VEVENT
END:VCALENDAR