BEGIN:VCALENDAR
VERSION:2.0
PRODID:-//Kino Tuškanac//Filmski programi//HR
BEGIN:VEVENT
UID:edd12ab7cee0be39f4d857de6233ce3f@kinotuskanac.hr
DTSTAMP:20260422T045104Z
DTSTART:20220620T210000
DTEND:20220620T230000
SUMMARY:Rio Lobo
LOCATION:Kino Tuškanac
DESCRIPTION:SAD, Meksiko, 1970 R: Howard Hawks
END:VEVENT
END:VCALENDAR