BEGIN:VCALENDAR
VERSION:2.0
PRODID:-//Kino Tuškanac//Filmski programi//HR
BEGIN:VEVENT
UID:351502f2fa5106b998d0a79ba4f4b7db@kinotuskanac.hr
DTSTAMP:20260419T141949Z
DTSTART:20220628T210000
DTEND:20220628T230000
SUMMARY:Gospodin Schmidt
LOCATION:Kino Tuškanac
DESCRIPTION:About Schmidt, SAD, 2002 R: Alexander Payne
END:VEVENT
END:VCALENDAR