BEGIN:VCALENDAR
VERSION:2.0
PRODID:-//Kino Tuškanac//Filmski programi//HR
BEGIN:VEVENT
UID:dd96522f475dd9e13f4bc5fed000b60c@kinotuskanac.hr
DTSTAMP:20260423T004132Z
DTSTART:20220629T190000
DTEND:20220629T210000
SUMMARY:Stranputice
LOCATION:Kino Tuškanac
DESCRIPTION:Sideways, SAD, Mađarska, 2004 R: Alexander Payne
END:VEVENT
END:VCALENDAR