BEGIN:VCALENDAR
VERSION:2.0
PRODID:-//Kino Tuškanac//Filmski programi//HR
BEGIN:VEVENT
UID:b0ccb750c1fe45e40d497c503e47f1ac@kinotuskanac.hr
DTSTAMP:20260421T092852Z
DTSTART:20220630T190000
DTEND:20220630T210000
SUMMARY:Građanka Ruth
LOCATION:Kino Tuškanac
DESCRIPTION:Citizen Ruth, SAD, 1996 R: Alexander Payne
END:VEVENT
END:VCALENDAR